BEGIN:VCALENDAR
VERSION:2.0
PRODID:-//ChamberMaster//Event Calendar 2.0//EN
METHOD:PUBLISH
X-PUBLISHED-TTL:P3D
REFRESH-INTERVAL:P3D
CALSCALE:GREGORIAN
BEGIN:VEVENT
DTSTART:20140405T003000Z
DTEND:20140405T043000Z
X-MICROSOFT-CDO-ALLDAYEVENT:FALSE
SUMMARY:Lincoln Day Dinner - Kittitas County Republicans
DESCRIPTION:The Kittitas County Republicans will be hosting their annual Lincoln Day Dinner Friday April 4\, 2014 At The Kittitas Valley Event Center Teanaway Hall.  Tickets are $40.00 and $30.00 for students. The event starts at 5:30 pm
X-ALT-DESC;FMTTYPE=text/html:The Kittitas County Republicans will be hosting their annual Lincoln Day Dinner Friday April 4\, 2014 At The Kittitas Valley Event Center Teanaway&nbsp\;Hall. &nbsp\;Tickets are $40.00 and $30.00 for students. The event starts at 5:30 pm
LOCATION:Kittitas Valley Event Center Teanaway Hall
UID:e.40.10967
SEQUENCE:3
DTSTAMP:20260419T143758Z
URL:http://business.kittitascountychamber.com/events/details/lincoln-day-dinner-kittitas-county-republicans-04-04-2014-10967
END:VEVENT

END:VCALENDAR
