BEGIN:VCALENDAR
VERSION:2.0
PRODID:-//ChamberMaster//Event Calendar 2.0//EN
METHOD:PUBLISH
X-PUBLISHED-TTL:P3D
REFRESH-INTERVAL:P3D
CALSCALE:GREGORIAN
BEGIN:VEVENT
DTSTART:20131102T160000Z
DTEND:20131102T210000Z
X-MICROSOFT-CDO-ALLDAYEVENT:FALSE
SUMMARY:Lincoln Fall Bazaar
DESCRIPTION:Come and join us for our 4th annual Lincoln Fall Bazaar. We have 20+ vendors. From candles\, soap\, bath and body\, food\, hats\, scarfs and more!
X-ALT-DESC;FMTTYPE=text/html:Come and join us for our 4th annual Lincoln Fall Bazaar. We have 20+ vendors. From candles\, soap\, bath and body\, food\, hats\, scarfs and more! 
LOCATION:200 south Sampson Street
UID:e.40.10801
SEQUENCE:3
DTSTAMP:20260419T224706Z
URL:http://business.kittitascountychamber.com/events/details/lincoln-fall-bazaar-11-02-2013-10801
END:VEVENT

END:VCALENDAR
