BEGIN:VCALENDAR
VERSION:2.0
PRODID:-//ChamberMaster//Event Calendar 2.0//EN
METHOD:PUBLISH
X-PUBLISHED-TTL:P3D
REFRESH-INTERVAL:P3D
CALSCALE:GREGORIAN
BEGIN:VEVENT
DTSTART:20121208T210000Z
DTEND:20121208T230000Z
X-MICROSOFT-CDO-ALLDAYEVENT:FALSE
SUMMARY:Little Elves' Gift Making Workshop
DESCRIPTION:Every child wants to be able to participate in the magic of Santa's gift making process. This year\, the Ellensburg Downtown Association and Solarity Credit Union are giving them the opportunity. Children ages 4-12 are invited to come downtown for an afternoon of crafts and activities to make a series of wrapped gifts that they can take home and place under the tree. With Christmas being just around the corner\, there may be no time better than this for Mom and Dad to spend some free time shopping locally in downtown stores\, without the little ones! As extra incentive\, there will be additional giveaways for guardians who bring back proof of purchase made during the workshop. Bring the kids down to Prosody Events and Caf  on December 8 from 1-3 p.m. Space is limited and a material fee of $10 per child applies.
X-ALT-DESC;FMTTYPE=text/html:Every child wants to be able to participate in the magic of Santa&rsquo\;s gift making process. This year\, the Ellensburg Downtown Association and Solarity Credit Union are giving them the opportunity. Children ages 4-12 are invited to come downtown for an afternoon of crafts and activities to make a series of wrapped gifts that they can take home and place under the tree. With Christmas being just around the corner\, there may be no time better than this for Mom and Dad to spend some free time shopping locally in downtown stores\, without the little ones! As extra incentive\, there will be additional giveaways for guardians who bring back proof of purchase made during the workshop. Bring the kids down to Prosody Events and Caf&eacute\; on December 8 from 1-3 p.m. Space is limited and a material fee of $10 per child applies.
LOCATION:Prosody Events and Cafe 117 E 4th Ave Ellensburg\, WA
UID:e.40.8443
SEQUENCE:3
DTSTAMP:20260420T182255Z
URL:http://business.kittitascountychamber.com/events/details/little-elves-gift-making-workshop-12-08-2012-8443
END:VEVENT

END:VCALENDAR
