BEGIN:VCALENDAR
VERSION:2.0
PRODID:-//ChamberMaster//Event Calendar 2.0//EN
METHOD:PUBLISH
X-PUBLISHED-TTL:P3D
REFRESH-INTERVAL:P3D
CALSCALE:GREGORIAN
BEGIN:VEVENT
DTSTART:20260425T220000Z
DTEND:20260426T000000Z
X-MICROSOFT-CDO-ALLDAYEVENT:FALSE
SUMMARY:Live Music at Punch! "Fern Spores"
DESCRIPTION:Open 12-5pm Saturday\, April 25 with "Fern Spores" playing psych folk\, garage rock\, Americana\, and bluesy ballads on the Punch Stage 3-5pm. In the Punch Gallery\, join us for the final weekend of "BLACK LAND/RED LAND" an exhibition of visual art and poetry curated by Margot Massey and David Coppin Lanegan.\n \n\nNot to mention\, we've got beverages and snacks in the Punch Snack Bar.\n \n\nPlan to arrive early for a good seat!\n \n\nJoin us for this free\, all-ages event at Punch Projects!\n\n10630 N Thorp Hwy\, Thorp\, Washington 98926\n\nwww.punchprojects.org/calendar
X-ALT-DESC;FMTTYPE=text/html:<div>Open 12-5pm Saturday\, April 25 with <strong>&quot\;Fern Spores&quot\; </strong>playing psych folk\, garage rock\, Americana\, and bluesy ballads on the Punch Stage 3-5pm. In the Punch Gallery\, join us for the final weekend of <strong>&quot\;BLACK LAND/RED LAND&quot\;</strong> an exhibition of visual art and poetry curated by Margot Massey and David Coppin Lanegan.</div>\n&nbsp\;\n\n<div>Not to mention\, we&rsquo\;ve got beverages and snacks in the Punch Snack Bar.</div>\n&nbsp\;\n\n<div>Plan to arrive early for a good seat!</div>\n&nbsp\;\n\n<div><strong>Join us for this free\, all-ages event at Punch Projects!</strong><br />\n10630 N Thorp Hwy\, Thorp\, Washington 98926<br />\nwww.punchprojects.org/calendar<br />\n&nbsp\;</div>\n
LOCATION:Punch Projects 10630 N. Thorp Hwy Thorp\, WA 98946
UID:e.40.41617
SEQUENCE:3
DTSTAMP:20260423T081350Z
URL:http://business.kittitascountychamber.com/events/details/live-music-at-punch-fern-spores-41617
END:VEVENT

END:VCALENDAR
