BEGIN:VCALENDAR
VERSION:2.0
PRODID:-//ChamberMaster//Event Calendar 2.0//EN
METHOD:PUBLISH
X-PUBLISHED-TTL:P3D
REFRESH-INTERVAL:P3D
CALSCALE:GREGORIAN
BEGIN:VEVENT
DTSTART:20190724T020000Z
DTEND:20190724T040000Z
X-MICROSOFT-CDO-ALLDAYEVENT:FALSE
SUMMARY:Lower County Candidate Forum
DESCRIPTION:ELLENSBURG\, WA (June 10\, 2019) - The Kittitas Valley League of Women Voters and the Ellensburg Public Library will host a primary Lower County Candidate Forum from 7-9 p.m. Tuesday\, July 23 for candidates running for Kittitas County Commissioner. The forum will take place in the City Council Chambers and is free and open to the public. Candidates running for commissioner include Nancy Lillquist\, Laci Harrison and Cory Wright. Lower County races that will not appear on the ballot were not invited. Each candidate will give a short introduction and will respond to questions submitted by the League and audience members. Charli Sorenson will be the moderator. This Candidate Forum will be videotaped and live-streamed over ECV. This event is free of charge and is co-sponsored by the Ellensburg Public Library. The League does not support or oppose any candidate or political party. For questions about the event\, please email the League at kittitasinfo@gmail.com.
X-ALT-DESC;FMTTYPE=text/html:ELLENSBURG\, WA (June 10\, 2019) - The Kittitas Valley League of Women Voters and the Ellensburg Public Library will host a primary Lower County Candidate Forum from 7-9 p.m. Tuesday\, July 23 for candidates running for Kittitas County Commissioner. The forum will take place in the City Council Chambers and is free and open to the public. Candidates running for commissioner include Nancy Lillquist\, Laci Harrison and Cory Wright. Lower County races that will not appear on the ballot were not invited. Each candidate will give a short introduction and will respond to questions submitted by the League and audience members. Charli Sorenson will be the moderator. This Candidate Forum will be videotaped and live-streamed over ECV. This event is free of charge and is co-sponsored by the Ellensburg Public Library. The League does not support or oppose any candidate or political party. For questions about the event\, please email the League at kittitasinfo@gmail.com.
LOCATION:Ellensburg City Hall
UID:e.40.25851
SEQUENCE:3
DTSTAMP:20260421T131538Z
URL:http://business.kittitascountychamber.com/events/details/lower-county-candidate-forum-25851
END:VEVENT

END:VCALENDAR
