BEGIN:VCALENDAR
VERSION:2.0
PRODID:-//ChamberMaster//Event Calendar 2.0//EN
METHOD:PUBLISH
X-PUBLISHED-TTL:P3D
REFRESH-INTERVAL:P3D
CALSCALE:GREGORIAN
BEGIN:VEVENT
DTSTART:20140204T200000Z
DTEND:20140204T210000Z
X-MICROSOFT-CDO-ALLDAYEVENT:FALSE
SUMMARY:Lunch & Learn Series-3 Simple Steps to Solid Business Success
DESCRIPTION:Join us for our Lunch & Learn Business 101 Series\n\nStop getting in your own way:\n\n3 Simple Steps to Solid Business Success\n\nTara Truax \, a successful small business owner\, entrepreneur \, marketing expert and author will help you navigate through roadblocks and overcome obstacles to maintain a successful business.\n\nYou will learn-\n\n	\n		How to discover your real " Why" and how to use it to your advantage\n	\n		How and why to stop comparing yourself to others\n	\n		How to create a business roadmap that will have you set up for success                                                                                                                            4. and
X-ALT-DESC;FMTTYPE=text/html:Join us for our Lunch &amp\; Learn Business 101 Series<br />\nStop getting in your own way:<br />\n3 Simple Steps to Solid Business Success<br />\nTara Truax \, a successful&nbsp\;small business owner\, entrepreneur \, marketing expert and author will help you navigate through roadblocks&nbsp\;and overcome obstacles to maintain a successful business.<br />\nYou will learn-\n<ol>\n	<li>\n		How to discover your real &quot\; Why&quot\; and how to use it to your advantage</li>\n	<li>\n		How and why to stop comparing yourself to others</li>\n	<li>\n		How to create a business roadmap that will have you set up for success&nbsp\;&nbsp\;&nbsp\;&nbsp\;&nbsp\;&nbsp\;&nbsp\;&nbsp\;&nbsp\;&nbsp\;&nbsp\;&nbsp\;&nbsp\;&nbsp\;&nbsp\;&nbsp\;&nbsp\;&nbsp\;&nbsp\;&nbsp\;&nbsp\;&nbsp\;&nbsp\;&nbsp\;&nbsp\;&nbsp\;&nbsp\;&nbsp\;&nbsp\;&nbsp\;&nbsp\;&nbsp\;&nbsp\;&nbsp\;&nbsp\;&nbsp\;&nbsp\;&nbsp\;&nbsp\;&nbsp\;&nbsp\;&nbsp\;&nbsp\;&nbsp\;&nbsp\;&nbsp\;&nbsp\;&nbsp\;&nbsp\;&nbsp\;&nbsp\;&nbsp\;&nbsp\;&nbsp\;&nbsp\;&nbsp\;&nbsp\;&nbsp\;&nbsp\;&nbsp\;&nbsp\;&nbsp\;&nbsp\;&nbsp\;&nbsp\;&nbsp\;&nbsp\;&nbsp\;&nbsp\;&nbsp\;&nbsp\;&nbsp\;&nbsp\;&nbsp\;&nbsp\;&nbsp\;&nbsp\;&nbsp\;&nbsp\;&nbsp\;&nbsp\;&nbsp\;&nbsp\;&nbsp\;&nbsp\;&nbsp\;&nbsp\;&nbsp\;&nbsp\;&nbsp\;&nbsp\;&nbsp\;&nbsp\;&nbsp\;&nbsp\;&nbsp\;&nbsp\;&nbsp\;&nbsp\;&nbsp\;&nbsp\;&nbsp\;&nbsp\;&nbsp\;&nbsp\;&nbsp\;&nbsp\;&nbsp\;&nbsp\;&nbsp\;&nbsp\;&nbsp\;&nbsp\;&nbsp\;&nbsp\;&nbsp\;&nbsp\;&nbsp\;&nbsp\;&nbsp\;&nbsp\;&nbsp\;&nbsp\;&nbsp\;4.&nbsp\;and</li>\n</ol>\n
LOCATION:Ellensburg Quality Inn & Conference Center 1700 Canyon Rd\, Ellensburg
UID:e.40.10927
SEQUENCE:3
DTSTAMP:20260419T173940Z
URL:http://business.kittitascountychamber.com/events/details/lunch-learn-series-3-simple-steps-to-solid-business-success-02-04-2014-10927
END:VEVENT

END:VCALENDAR
