BEGIN:VCALENDAR
VERSION:2.0
PRODID:-//ChamberMaster//Event Calendar 2.0//EN
METHOD:PUBLISH
X-PUBLISHED-TTL:P3D
REFRESH-INTERVAL:P3D
CALSCALE:GREGORIAN
BEGIN:VEVENT
DTSTART:20130910T190000Z
DTEND:20130910T200000Z
X-MICROSOFT-CDO-ALLDAYEVENT:FALSE
SUMMARY:Lunch & Learn Speaker Series
DESCRIPTION:Join us for the Lunch & Learn Speaker Series-\n\nThe Importance of Internet & Wireless Safety for Business Owners\, \n\npresented by CWU IT Professional Gary Rogers Ph.D\n\nYou will learn about-\n\n1. Cyber Attacks\n\n2. Wireless Security\n\n3. How to know if your business is secure online\n\n4. How CWU is addressing these issues\n\nLunch can be purchased from Rodeo City Bar-B-Q
X-ALT-DESC;FMTTYPE=text/html:<strong><em><span style="color:black\;"><span style="font-size:9.0pt\;">Join us for the Lunch &amp\; Learn Speaker Series-</span></span></em></strong><br />\n<span style="color:black\;"><span style="font-size:9.0pt\;">The Importance of Internet &amp\; Wireless Safety for Business Owners\, </span></span><br />\n<span style="color:black\;"><span style="font-size:9.0pt\;">presented by CWU IT Professional Gary Rogers Ph.D</span></span><br />\n<strong><em><span style="color:black\;"><span style="font-size:9.0pt\;">You will learn about-</span></span></em></strong><br />\n<span style="color:black\;"><span style="font-size:9.0pt\;">1. Cyber Attacks</span></span><br />\n<span style="color:black\;"><span style="font-size:9.0pt\;">2. Wireless Security</span></span><br />\n<span style="color:black\;"><span style="font-size:9.0pt\;">3. How to know if your business is secure online</span></span><br />\n<span style="color:black\;"><span style="font-size:9.0pt\;">4. How CWU is addressing these issues</span></span><br />\n<strong><span style="color:black\;"><span style="font-size:9.0pt\;">Lunch can be purchased from Rodeo City Bar-B-Q</span></span></strong>
LOCATION:Rodeo City Bar-B-Q 204 N. Main Street\, Ellensburg
UID:e.40.10437
SEQUENCE:3
DTSTAMP:20260420T015250Z
URL:http://business.kittitascountychamber.com/events/details/lunch-learn-speaker-series-09-10-2013-10437
END:VEVENT

END:VCALENDAR
