BEGIN:VCALENDAR
VERSION:2.0
PRODID:-//ChamberMaster//Event Calendar 2.0//EN
METHOD:PUBLISH
X-PUBLISHED-TTL:P3D
REFRESH-INTERVAL:P3D
CALSCALE:GREGORIAN
BEGIN:VEVENT
DTSTART:20140501T190000Z
DTEND:20140501T200000Z
X-MICROSOFT-CDO-ALLDAYEVENT:FALSE
SUMMARY:Lunch & Learn Speaker Series with Brad Worthley
DESCRIPTION:Back by Popular Demand- Lunch & Learn Speaker Series featuring Brad Worthley\, Internationally Acclaimed Customer Service\, Leadership & Motivational Expert.\n\nTopic will be " How to Create & Sustain a Sales and Service Culture".\n\nLunch can be purchased from Spurs Bar & Grill
X-ALT-DESC;FMTTYPE=text/html:Back by Popular Demand- Lunch &amp\; Learn Speaker Series featuring Brad Worthley\, Internationally Acclaimed Customer Service\, Leadership &amp\; Motivational Expert.<br />\nTopic will be &quot\; How to Create &amp\; Sustain a Sales and Service Culture&quot\;.<br />\nLunch can be purchased from Spurs Bar &amp\; Grill
LOCATION:Quality Inn & Conference Center 1700 Canyon Rd\, Ellensburg
UID:e.40.11248
SEQUENCE:3
DTSTAMP:20260419T130420Z
URL:http://business.kittitascountychamber.com/events/details/lunch-learn-speaker-series-with-brad-worthley-05-01-2014-11248
END:VEVENT

END:VCALENDAR
