BEGIN:VCALENDAR
VERSION:2.0
PRODID:-//ChamberMaster//Event Calendar 2.0//EN
METHOD:PUBLISH
X-PUBLISHED-TTL:P3D
REFRESH-INTERVAL:P3D
CALSCALE:GREGORIAN
BEGIN:VEVENT
DTSTART:20131015T183000Z
DTEND:20131015T200000Z
X-MICROSOFT-CDO-ALLDAYEVENT:FALSE
SUMMARY:Lunch & Learn Speaker Series with Brad Worthley
DESCRIPTION:Join us for Lunch & Learn Speaker Series featuring Brad Worthley\, Internationally Acclaimed Customer Service\, Leadership & Motivational Expert.\n\nTopic will be " Exceeding Customer Expectations".\n\nLunch can be purchased from Spurs Bar & Grill
X-ALT-DESC;FMTTYPE=text/html:Join us for Lunch &amp\; Learn Speaker Series featuring Brad Worthley\, Internationally Acclaimed Customer Service\, Leadership &amp\; Motivational Expert.<br />\nTopic will be &quot\; Exceeding Customer Expectations&quot\;.<br />\nLunch can be purchased from Spurs Bar &amp\; Grill
LOCATION:Quality Inn & Conference Center 1700 Canyon Rd\, Ellensburg
UID:e.40.10718
SEQUENCE:3
DTSTAMP:20260420T003126Z
URL:http://business.kittitascountychamber.com/events/details/lunch-learn-speaker-series-with-brad-worthley-10-15-2013-10718
END:VEVENT

END:VCALENDAR
