BEGIN:VCALENDAR
VERSION:2.0
PRODID:-//ChamberMaster//Event Calendar 2.0//EN
METHOD:PUBLISH
X-PUBLISHED-TTL:P3D
REFRESH-INTERVAL:P3D
CALSCALE:GREGORIAN
BEGIN:VEVENT
DTSTART;VALUE=DATE:20190727
DTEND;VALUE=DATE:20190728
TRANSP:TRANSPARENT
X-MICROSOFT-CDO-ALLDAYEVENT:TRUE
SUMMARY:Lynyrd Skynrd
DESCRIPTION:With special guest Bad Company
X-ALT-DESC;FMTTYPE=text/html:With special guest Bad Company
LOCATION:White River Amphitheatre
UID:e.40.25839
SEQUENCE:3
DTSTAMP:20260421T131534Z
URL:http://business.kittitascountychamber.com/events/details/lynyrd-skynrd-25839
END:VEVENT

END:VCALENDAR
