BEGIN:VCALENDAR
VERSION:2.0
PRODID:-//ChamberMaster//Event Calendar 2.0//EN
METHOD:PUBLISH
X-PUBLISHED-TTL:P3D
REFRESH-INTERVAL:P3D
CALSCALE:GREGORIAN
BEGIN:VEVENT
DTSTART:20130427T210000Z
DTEND:20130427T230000Z
X-MICROSOFT-CDO-ALLDAYEVENT:FALSE
SUMMARY:Mad Hatter's Tea Party
DESCRIPTION:Join us for an afternoon of tea\, goodies\, dance and fun at the Central Washington Dance Ensemble's Mad Hatter's Tea Party. Saturday\, April 27 at 2:00 at Hal Holmes Community Center in Ellensburg. Tickets are on sale at Jerrol's or at the door. $5 per person\, for an additional $1 purchase a tiara to be delivered by a ballerina to your little princess. Tea party will include a preview of select scenes from CWDE's upcoming production of Alice In Wonderland\, croquet\, and a photo opportunity with some of your favorite characters (please bring your own camera.)
X-ALT-DESC;FMTTYPE=text/html:Join us for an afternoon of tea\, goodies\, dance and fun at the Central Washington Dance Ensemble&#39\;s Mad Hatter&#39\;s Tea Party. Saturday\, April 27 at 2:00 at Hal Holmes Community Center in Ellensburg. Tickets are on sale at Jerrol&#39\;s or at the door. $5 per person\, for an additional $1 purchase a tiara to be delivered by a ballerina to your little princess. Tea party will include a preview of select scenes from CWDE&#39\;s upcoming production of Alice In Wonderland\, croquet\, and a photo opportunity with some of your favorite characters (please bring your own camera.) 
LOCATION:Hal Holmes Community Center
UID:e.40.10266
SEQUENCE:3
DTSTAMP:20260422T090155Z
URL:http://business.kittitascountychamber.com/events/details/mad-hatter-s-tea-party-04-27-2013-10266
END:VEVENT

END:VCALENDAR
