BEGIN:VCALENDAR
VERSION:2.0
PRODID:-//ChamberMaster//Event Calendar 2.0//EN
METHOD:PUBLISH
X-PUBLISHED-TTL:P3D
REFRESH-INTERVAL:P3D
CALSCALE:GREGORIAN
BEGIN:VEVENT
DTSTART:20130407T003000Z
DTEND:20130407T040000Z
X-MICROSOFT-CDO-ALLDAYEVENT:FALSE
SUMMARY:Magical Evening 2013
DESCRIPTION:Magical Evening 2013\n\n	Black tie gala with multi-course dinner\, entertainment\, raffles and the premier fund-a-need auction.
X-ALT-DESC;FMTTYPE=text/html:<p>\n	Magical Evening 2013</p>\n<p>\n	Black tie gala with multi-course dinner\, entertainment\, raffles and the premier fund-a-need auction.</p>\n
LOCATION:CWU SURC Ballroom 400 E University Way Ellensburg WA
UID:e.40.8858
SEQUENCE:3
DTSTAMP:20260420T100053Z
URL:http://business.kittitascountychamber.com/events/details/magical-evening-2013-04-06-2013-8858
END:VEVENT

END:VCALENDAR
