BEGIN:VCALENDAR
VERSION:2.0
PRODID:-//ChamberMaster//Event Calendar 2.0//EN
METHOD:PUBLISH
X-PUBLISHED-TTL:P3D
REFRESH-INTERVAL:P3D
CALSCALE:GREGORIAN
BEGIN:VEVENT
DTSTART:20140406T003000Z
DTEND:20140406T050000Z
X-MICROSOFT-CDO-ALLDAYEVENT:FALSE
SUMMARY:Magical Evening 2014
DESCRIPTION:Mark your calendars for the 11th annual Magical Evening Gala in support of KVH. Enjoy a spectacular evening including a multi-course dinner\, fabulous local wine\, premier raffles\, surprise headline entertainment\, and the highly regarded fund-a-need auction.
X-ALT-DESC;FMTTYPE=text/html:Mark your calendars for the 11th annual Magical Evening Gala in support of KVH. Enjoy a spectacular evening including a multi-course dinner\, fabulous local wine\, premier raffles\, surprise headline entertainment\, and the highly regarded fund-a-need auction. 
LOCATION:CWU SURC Ballroom
UID:e.40.10378
SEQUENCE:3
DTSTAMP:20260419T143617Z
URL:http://business.kittitascountychamber.com/events/details/magical-evening-2014-04-05-2014-10378
END:VEVENT

END:VCALENDAR
