BEGIN:VCALENDAR
VERSION:2.0
PRODID:-//ChamberMaster//Event Calendar 2.0//EN
METHOD:PUBLISH
X-PUBLISHED-TTL:P3D
REFRESH-INTERVAL:P3D
CALSCALE:GREGORIAN
BEGIN:VEVENT
DTSTART:20140409T010000Z
DTEND:20140409T040000Z
X-MICROSOFT-CDO-ALLDAYEVENT:FALSE
SUMMARY:Making Your Art a Business
DESCRIPTION:Learn how to file for a business license\, create an easy bookkeeping system\, and make art deductions count for you.
X-ALT-DESC;FMTTYPE=text/html:Learn how to file for a business license\, create an easy bookkeeping system\, and make art deductions count for you.
LOCATION:Gallery One\, 408 N Pearl St\, Ellensburg
UID:e.40.11183
SEQUENCE:3
DTSTAMP:20260419T143917Z
URL:http://business.kittitascountychamber.com/events/details/making-your-art-a-business-04-08-2014-11183
END:VEVENT

END:VCALENDAR
