BEGIN:VCALENDAR
VERSION:2.0
PRODID:-//ChamberMaster//Event Calendar 2.0//EN
METHOD:PUBLISH
X-PUBLISHED-TTL:P3D
REFRESH-INTERVAL:P3D
CALSCALE:GREGORIAN
BEGIN:VEVENT
DTSTART:20140207T010000Z
DTEND:20140207T030000Z
X-MICROSOFT-CDO-ALLDAYEVENT:FALSE
SUMMARY:Margery Amdur Exhibit: Opening Reception
DESCRIPTION:Free public opening reception for exhibit by Margery Amdur. Amdur is a contemporary mixed-media artist who uses a variety of unusual materials\, such as cosmetic sponges\, corsage pins\, and pompoms\, to create large-scale wall pieces and installations. Amdur is an Associate Professor of Art at Rutgers-Camden University in New Jersey.
X-ALT-DESC;FMTTYPE=text/html:Free public opening reception for exhibit by Margery Amdur.&nbsp\;Amdur is a contemporary mixed-media artist who uses a variety of unusual materials\, such as cosmetic sponges\, corsage pins\, and pompoms\, to create large-scale wall pieces and installations. Amdur is an Associate Professor of Art at Rutgers-Camden University in New Jersey.
LOCATION:CWU Sarah Spurgeon Gallery Randall Hall on Dean Nicholson Blvd.\, Rm. 117
UID:e.40.10851
SEQUENCE:3
DTSTAMP:20260419T175142Z
URL:http://business.kittitascountychamber.com/events/details/margery-amdur-exhibit-opening-reception-02-06-2014-10851
END:VEVENT

END:VCALENDAR
