BEGIN:VCALENDAR
VERSION:2.0
PRODID:-//ChamberMaster//Event Calendar 2.0//EN
METHOD:PUBLISH
X-PUBLISHED-TTL:P3D
REFRESH-INTERVAL:P3D
CALSCALE:GREGORIAN
BEGIN:VEVENT
DTSTART:20130907T173000Z
DTEND:20130907T230000Z
X-MICROSOFT-CDO-ALLDAYEVENT:FALSE
SUMMARY:McDonald's GRAND RE-OPENING
DESCRIPTION:Join us in celebrating the Grand Re-Opening of the Ellensburg McDonald's. Saturday September 7\, 2013\n\n    Ribbon Cutting at 10:30 am\n\n    11:00 am Goodie Bags for the first 300 Children\n\n    11:00 am- 4:00 pm Spin the wheel\, Pictures with Ronald\, Grimace & Hamburgler\n\n\n\n\n\nJoin Ronald for magic tricks and fun shows at\n\n    11:30 am- 12:30 pm\n\n        1:00 pm - 2:00 pm\n\n\n\nGrand Prizes:  Mini iPads\, Camcorder/Camera\, Camping Package or a 31" Coca-Cola Polar Bear.\n\nDRAWING WILL BE AT 4:00 PM
X-ALT-DESC;FMTTYPE=text/html:Join us in celebrating the<span style="color: #ff0000"><strong> Grand Re-Opening of the Ellensburg McDonald&#39\;s. Saturday September 7\, 2013</strong></span><br />\n&nbsp\;&nbsp\;&nbsp\;&nbsp\;Ribbon Cutting at 10:30 am<br />\n&nbsp\;&nbsp\;&nbsp\;&nbsp\;11:00 am Goodie Bags for the first 300 Children<br />\n&nbsp\;&nbsp\;&nbsp\;&nbsp\;11:00 am- 4:00 pm Spin the wheel\, Pictures with Ronald\, Grimace &amp\; Hamburgler<br />\n<br />\n<br />\nJoin Ronald for magic tricks and fun shows at<br />\n&nbsp\;&nbsp\;&nbsp\;&nbsp\;11:30 am- 12:30 pm<br />\n&nbsp\;&nbsp\;&nbsp\;&nbsp\;&nbsp\;&nbsp\;&nbsp\;&nbsp\;1:00 pm - 2:00 pm<br />\n<br />\nGrand Prizes:&nbsp\; Mini iPads\, Camcorder/Camera\, Camping Package or a 31&quot\; Coca-Cola Polar Bear.<br />\n<strong><span style="color: #ff0000"><u>DRAWING WILL BE AT 4:00 PM</u></span></strong>
LOCATION:Ellensburg McDonald's 1304 Canyon Rd
UID:e.40.10647
SEQUENCE:3
DTSTAMP:20260420T020807Z
URL:http://business.kittitascountychamber.com/events/details/mcdonald-s-grand-re-opening-09-07-2013-10647
END:VEVENT

END:VCALENDAR
