BEGIN:VCALENDAR
VERSION:2.0
PRODID:-//ChamberMaster//Event Calendar 2.0//EN
METHOD:PUBLISH
X-PUBLISHED-TTL:P3D
REFRESH-INTERVAL:P3D
CALSCALE:GREGORIAN
BEGIN:VEVENT
DTSTART:20131002T233000Z
DTEND:20131003T023000Z
X-MICROSOFT-CDO-ALLDAYEVENT:FALSE
SUMMARY:McTeacher Night At McDonald's
DESCRIPTION:Join us  for  McTeacher Night\, a fundraiser where Mt. Stuart teachers will be working some of the jobs at McDonald's\, and the parent group receives 15% of the proceeds for the night.  We could use some more help from parents! Contact Tracy at loganandkaylasmommie@yahoo.com to volunteer.
X-ALT-DESC;FMTTYPE=text/html:Join us&nbsp\; for&nbsp\;<strong> </strong><span style="font-family: times new roman\,serif\;"><span style="font-size: 12pt\;"><strong>McTeacher Night</strong>\, a fundraiser where Mt. Stuart teachers will be working some of the jobs at McDonald&#39\;s\, and the parent group receives 15% of the proceeds for the night. &nbsp\;We could use some more help from parents! Contact Tracy at <a href="mailto:loganandkaylasmommie@yahoo.com" target="_blank">loganandkaylasmommie@yahoo.com</a> to volunteer.</span></span>
LOCATION:McDonald's in Ellensburg 1304 Canyon Rd
UID:e.40.10685
SEQUENCE:3
DTSTAMP:20260420T003154Z
URL:http://business.kittitascountychamber.com/events/details/mcteacher-night-at-mcdonald-s-10-02-2013-10685
END:VEVENT

END:VCALENDAR
