BEGIN:VCALENDAR
VERSION:2.0
PRODID:-//ChamberMaster//Event Calendar 2.0//EN
METHOD:PUBLISH
X-PUBLISHED-TTL:P3D
REFRESH-INTERVAL:P3D
CALSCALE:GREGORIAN
BEGIN:VEVENT
DTSTART:20140409T134500Z
DTEND:20140410T010000Z
X-MICROSOFT-CDO-ALLDAYEVENT:FALSE
SUMMARY:Mean & Lean in '14 (4th Weigh In)
DESCRIPTION:Are you ready to get Mean & Lean in '14!?\n\n\n\nThe Kittitas County Chamber of Commerce along with RSVP & Volunteer Center of Kittitas County are excited to announce the beginning of this year's Mean & Lean program! Last year was a huge success with over 100 participants with a total combined weight loss of 847.7 pounds! \n\n \n\nWith your registration you will receive a free weight loss journal (first 200 participants) and a Mean & Lean button\, which you can wear to numerous local businesses to get discounts and special deals (Details coming soon)\n\n \n\n12 Prizes will be awarded to the top male & female participants based on Percentage % of weight loss at the end of the program\n\n \n\n13th prize: participants that attend all weigh ins will be entered into a drawing for a special 13th prize\n\n \n\nOptional Weigh ins: Participants who attend each optional weigh in will be entered into a drawing to win prizes on that day regardless of weight change\n\n \n\nWe will be kicking off the program with the First weigh in and registration for Mean & Lean in '14 on February 5th\n\n \n\n The Location of the weigh ins will be \n\nThe Adult Activity Center (506 S Pine St.) \n\n \n\nOn each weigh in day\,\n\n you can drop by to weigh in within the following times:\n\n6:45am-7:45am\, \n\n11:30am-1:15pm\, \n\nor 4:30pm-6:00pm\n\n \n\nThe weigh in dates are every third Wednesday \n\nStarting on February 5th and going until May 14th\n\n \n\nWeigh in dates:\n\nFebruary 5th\n\nFebruary 26th\n\nMarch 19th\n\nApril 9th\n\nApril 30th\n\nMay 14th (Final Weigh in!)\n\n \n\nThe price for those who participated last year is $25.00! If you are new to the program or know someone who wants to participate for the first time this year the cost is $40.00\n\n \n\nYou can Register online on this page by clicking\n\n"Register Online"\n\nYou can also register on the day of the first weigh in\n\n(we accept Cash\, Check\, Visa & MasterCard)\n\n \n\nLike our Facebook for easy updates about Mean & Lean:\n\nhttps://www.facebook.com/GetMeanLeanIn13\n\n \n\nIf you have any questions or concerns\, \n\nPlease contact Roylene Crawford\n\nKittitas County Chamber of Commerce\n\n(509) 925-2002\n\nRoylene @KittitasCountyChamber.com
X-ALT-DESC;FMTTYPE=text/html:<span style="font-size:16px\;"><span style="font-family:century gothic\;">Are you ready to get Mean &amp\; Lean in &#39\;14!?<br />\n<br />\nThe Kittitas County Chamber of Commerce along with RSVP &amp\; Volunteer Center of Kittitas County are excited to announce the beginning of this year&rsquo\;s Mean &amp\; Lean program! Last year was a huge success with over 100 participants with a total combined weight loss of 847.7 pounds! </span><br />\n&nbsp\;<br />\n<span style="font-family:century gothic\;">With your registration you will receive a free weight loss journal (<em>first 200 participants</em>) and a Mean &amp\; Lean button\, which you can wear to numerous local businesses to get discounts and special deals&nbsp\;</span><em><span style="font-family:century gothic\;">(Details coming soon)</span></em><br />\n&nbsp\;<br />\n<span style="font-family:century gothic\;">12 Prizes will be awarded to the top male &amp\; female participants based on Percentage % of weight loss at the end of the program</span><br />\n&nbsp\;<br />\n<span style="font-family:century gothic\;">13<sup>th</sup> prize: participants that attend all weigh ins will be entered into a drawing for a special 13<sup>th</sup> prize</span><br />\n&nbsp\;<br />\n<span style="font-family:century gothic\;">Optional Weigh ins: Participants who attend each optional weigh in will be entered into a drawing to win prizes on that day regardless of weight change</span><br />\n&nbsp\;<br />\n<span style="font-family:century gothic\;">We will be kicking off the program with the First weigh in and registration for Mean &amp\; Lean in &rsquo\;14 on <strong>February 5<sup>th</sup></strong></span><br />\n&nbsp\;<br />\n<span style="font-family:century gothic\;">&nbsp\;<strong>The Location of the weigh ins will be </strong></span><br />\n<strong><span style="font-family:century gothic\;">The Adult Activity Center (506 S Pine St.) </span></strong><br />\n&nbsp\;<br />\n<strong><span style="font-family:century gothic\;">On each weigh in day\,</span></strong><br />\n<strong><span style="font-family:century gothic\;">&nbsp\;you can drop by to weigh in within the following times:</span></strong><br />\n<span style="font-family:century gothic\;">6:45am-7:45am\, </span><br />\n<span style="font-family:century gothic\;">11:30am-1:15pm\, </span><br />\n<span style="font-family:century gothic\;">or 4:30pm-6:00pm</span><br />\n&nbsp\;<br />\n<span style="font-family:century gothic\;">The weigh in dates are every third Wednesday </span><br />\n<span style="font-family:century gothic\;">Starting on February 5<sup>th</sup> and going until May 14<sup>th</sup></span><br />\n&nbsp\;<br />\n<strong><span style="font-family:century gothic\;">Weigh in dates:</span></strong><br />\n<span style="font-family:century gothic\;">February 5<sup>th</sup></span><br />\n<span style="font-family:century gothic\;">February 26<sup>th</sup></span><br />\n<span style="font-family:century gothic\;">March 19<sup>th</sup></span><br />\n<span style="font-family:century gothic\;">April 9<sup>th</sup></span><br />\n<span style="font-family:century gothic\;">April 30<sup>th</sup></span><br />\n<span style="font-family:century gothic\;">May 14<sup>th</sup> (Final Weigh in!)</span><br />\n&nbsp\;<br />\n<span style="font-family:century gothic\;">The price for those who participated last year is <strong>$25.00!</strong> If you are new to the program or know someone who wants to participate for the first time this year the cost is <strong>$40.00</strong></span><br />\n&nbsp\;<br />\n<span style="font-family:century gothic\;">You can Register online on this page by clicking</span><br />\n<span style="font-family:century gothic\;">&ldquo\;Register Online&rdquo\;</span><br />\n<span style="font-family:century gothic\;">You can also register on the day of the first weigh in</span><br />\n<span style="font-family:century gothic\;">(we accept Cash\, Check\, Visa &amp\; MasterCard)</span><br />\n&nbsp\;<br />\n<strong><span style="font-family:century gothic\;">Like our Facebook for easy updates about Mean &amp\; Lean:</span></strong><br />\n<strong><span style="font-family:century gothic\;"><a href="https://www.facebook.com/GetMeanLeanIn13">https://www.facebook.com/GetMeanLeanIn13</a></span></strong><br />\n&nbsp\;<br />\n<span style="font-family:century gothic\;">If you have any questions or concerns\, </span><br />\n<span style="font-family:century gothic\;">Please contact Roylene Crawford</span><br />\n<span style="font-family:century gothic\;">Kittitas County Chamber of Commerce</span><br />\n<span style="font-family:century gothic\;">(509) 925-2002</span><br />\n<span style="font-family:century gothic\;">Roylene @KittitasCountyChamber.com</span><br />\n&nbsp\;</span><br />\n&nbsp\;<br />\n
LOCATION:Adult Activity Center 506 S Pine St. Ellensburg\, WA 98926
UID:e.40.10947
SEQUENCE:3
DTSTAMP:20260419T144026Z
URL:http://business.kittitascountychamber.com/events/details/mean-lean-in-14-4th-weigh-in-04-09-2014-10947
END:VEVENT

END:VCALENDAR
