BEGIN:VCALENDAR
VERSION:2.0
PRODID:-//ChamberMaster//Event Calendar 2.0//EN
METHOD:PUBLISH
X-PUBLISHED-TTL:P3D
REFRESH-INTERVAL:P3D
CALSCALE:GREGORIAN
BEGIN:VEVENT
DTSTART:20131030T203000Z
DTEND:20131030T203000Z
X-MICROSOFT-CDO-ALLDAYEVENT:FALSE
SUMMARY:Medicare - Open Enrollment -
DESCRIPTION:Open Enrollment Medicare timeline is October 15- December 7\, 2013.  You are invited to attend  a meeting to learn more about Medicare basics and open enrollment
X-ALT-DESC;FMTTYPE=text/html:Open Enrollment Medicare timeline is October 15- December 7\, 2013.&nbsp\; You are invited to attend&nbsp\; a meeting to learn more about Medicare basics and open enrollment
LOCATION:Adult Activity Center 506 S. Pine Street
UID:e.40.10816
SEQUENCE:3
DTSTAMP:20260420T003108Z
URL:http://business.kittitascountychamber.com/events/details/medicare-open-enrollment-10-30-2013-10816
END:VEVENT

END:VCALENDAR
