BEGIN:VCALENDAR
VERSION:2.0
PRODID:-//ChamberMaster//Event Calendar 2.0//EN
METHOD:PUBLISH
X-PUBLISHED-TTL:P3D
REFRESH-INTERVAL:P3D
CALSCALE:GREGORIAN
BEGIN:VEVENT
DTSTART:20140425T010000Z
DTEND:20140425T023000Z
X-MICROSOFT-CDO-ALLDAYEVENT:FALSE
SUMMARY:Meet & Greet at Meadows Place
DESCRIPTION:Let's Get to Know each other............... Meadows Place Meet & Greet.  Join us for a Meet & Greet of a new vibrant Community Relations Manager and please come to see our fabulous Wellness Director.  We cordially invite you for wine\, cheese and music.
X-ALT-DESC;FMTTYPE=text/html:Let&#39\;s Get to Know each other............... Meadows Place Meet &amp\; Greet. &nbsp\;Join us for a Meet &amp\; Greet of a new vibrant Community Relations Manager and please come to see our fabulous Wellness Director. &nbsp\;We cordially invite you for wine\, cheese and music. 
LOCATION:Meadows Place ( formerly Mountain View Meadows) 1008 E Mountain View Avenue
UID:e.40.11304
SEQUENCE:3
DTSTAMP:20260419T143947Z
URL:http://business.kittitascountychamber.com/events/details/meet-greet-at-meadows-place-04-24-2014-11304
END:VEVENT

END:VCALENDAR
