BEGIN:VCALENDAR
VERSION:2.0
PRODID:-//ChamberMaster//Event Calendar 2.0//EN
METHOD:PUBLISH
X-PUBLISHED-TTL:P3D
REFRESH-INTERVAL:P3D
CALSCALE:GREGORIAN
BEGIN:VEVENT
DTSTART:20130527T190000Z
DTEND:20130527T210000Z
X-MICROSOFT-CDO-ALLDAYEVENT:FALSE
SUMMARY:Memorial Day Ceremony
DESCRIPTION:Memorial Day Ceremony will be help Monday May 27 th at Memorial Park (815 E 6th Avenue) next to the City Swimming Pool.  There will be greeting and introductions by CSM (R) Don Morris\, USA\n\nMaster of Ceremonies ~ Captain Dale Wright\n\nPresentation of  Colors - Army and Air Force ROTC\n\nNational Anthem - Reaghan Weitzel\n\nPlacing of the Wreath - Linda Smith and Karen Garrett\n\nTribute to our Nation's Services - Service Songs\n\nHonoring Memorial Day - Susan Whitman\n\nGun Salute and TAPS - KCVA\n\nBag Pipes - Carlyn Weatherill\n\nBenediction - Paster Frank Johnson\n\n"God Bless America" please join in and sing along - lead by Jessica Barnes\n\n\n\nBBQ to follow the ceremony
X-ALT-DESC;FMTTYPE=text/html:Memorial Day Ceremony will be help Monday May 27 th at Memorial Park (815 E 6th Avenue) next to the City Swimming Pool.&nbsp\; There will be greeting and introductions by CSM (R) Don Morris\, USA<br />\nMaster of Ceremonies ~ Captain Dale Wright<br />\nPresentation of&nbsp\; Colors - Army and Air Force ROTC<br />\nNational Anthem - Reaghan Weitzel<br />\nPlacing of the Wreath - Linda Smith and Karen Garrett<br />\nTribute to our Nation&#39\;s Services - Service Songs<br />\nHonoring Memorial Day - Susan Whitman<br />\nGun Salute and TAPS - KCVA<br />\nBag Pipes - Carlyn Weatherill<br />\nBenediction - Paster Frank Johnson<br />\n&quot\;God Bless America&quot\; please join in and sing along - lead by Jessica Barnes<br />\n<br />\nBBQ to follow the ceremony
LOCATION:Memorial Park 815 E. 6 th Avenue
UID:e.40.10321
SEQUENCE:3
DTSTAMP:20260422T090111Z
URL:http://business.kittitascountychamber.com/events/details/memorial-day-ceremony-05-27-2013-10321
END:VEVENT

END:VCALENDAR
