BEGIN:VCALENDAR
VERSION:2.0
PRODID:-//ChamberMaster//Event Calendar 2.0//EN
METHOD:PUBLISH
X-PUBLISHED-TTL:P3D
REFRESH-INTERVAL:P3D
CALSCALE:GREGORIAN
BEGIN:VEVENT
DTSTART:20130427T170000Z
DTEND:20130427T170000Z
X-MICROSOFT-CDO-ALLDAYEVENT:FALSE
SUMMARY:Memorial Dedication Ceremony - Cle Elum
DESCRIPTION:United We Stand:  Memorial Dedication Ceremony ate Flag Pole Park - Cle Elum\n\nSaturday April 27\, 2013 at 10:00 am.  Join us as we pay homage to those that have dedicated their lives to the preservation of our Nation's freedom.\n\n\n\nCeremony Includes\n\nRaising of Military flags by local VFW Veterans\n\nMoment of Silence to honor Our Fallen Soldiers\n\nDedications of the Monument to the Upper Kittitas County
X-ALT-DESC;FMTTYPE=text/html:United We Stand:&nbsp\; Memorial Dedication Ceremony ate Flag Pole Park - Cle Elum<br />\nSaturday April 27\, 2013 at 10:00 am.&nbsp\; Join us as we pay homage to those that have dedicated their lives to the preservation of our Nation&#39\;s freedom.<br />\n<br />\nCeremony Includes<br />\nRaising of Military flags by local VFW Veterans<br />\nMoment of Silence to honor Our Fallen Soldiers<br />\nDedications of the Monument to the Upper Kittitas County
LOCATION:Flag Pole Park Cle Elum
UID:e.40.10173
SEQUENCE:3
DTSTAMP:20260422T101230Z
URL:http://business.kittitascountychamber.com/events/details/memorial-dedication-ceremony-cle-elum-04-27-2013-10173
END:VEVENT

END:VCALENDAR
