BEGIN:VCALENDAR
VERSION:2.0
PRODID:-//ChamberMaster//Event Calendar 2.0//EN
METHOD:PUBLISH
X-PUBLISHED-TTL:P3D
REFRESH-INTERVAL:P3D
CALSCALE:GREGORIAN
BEGIN:VEVENT
DTSTART:20131005T200000Z
DTEND:20131005T220000Z
X-MICROSOFT-CDO-ALLDAYEVENT:FALSE
SUMMARY:Men?s Lacrosse vs. Alumni
DESCRIPTION:An age-old battle of old school versus new school\, watch as the CWU Men?s Club Lacrosse team play against Alumni on Saturday\, Oct. 5 at 1 p.m. at Alder Recreation Complex. The game is free and everyone is welcome to attend.  For more information visit www.cwu.edu/sport-clubs.
X-ALT-DESC;FMTTYPE=text/html:An age-old battle of old school versus new school\, watch as the CWU Men?s Club Lacrosse team play against Alumni on Saturday\, Oct. 5 at 1 p.m. at Alder Recreation Complex. The game is free and everyone is welcome to attend.&nbsp\; For more information visit www.cwu.edu/sport-clubs. 
LOCATION:Alder Recreation Complex
UID:e.40.10732
SEQUENCE:3
DTSTAMP:20260420T002854Z
URL:http://business.kittitascountychamber.com/events/details/men-s-lacrosse-vs-alumni-10-05-2013-10732
END:VEVENT

END:VCALENDAR
