BEGIN:VCALENDAR
VERSION:2.0
PRODID:-//ChamberMaster//Event Calendar 2.0//EN
METHOD:PUBLISH
X-PUBLISHED-TTL:P3D
REFRESH-INTERVAL:P3D
CALSCALE:GREGORIAN
BEGIN:VEVENT
DTSTART:20131026T220000Z
DTEND:20131027T010000Z
X-MICROSOFT-CDO-ALLDAYEVENT:FALSE
SUMMARY:Men?s Lacrosse vs. Seattle University
DESCRIPTION:Come watch an exciting game as Central Washington University's Men's Lacrosse team plays against Seattle University on Saturday\, Oct. 26 at 3 p.m. at Alder Recreation. This game is free and open to the public.
X-ALT-DESC;FMTTYPE=text/html:Come watch an exciting game as Central Washington University&#39\;s Men&#39\;s Lacrosse team plays against Seattle University on Saturday\, Oct. 26 at 3 p.m. at Alder Recreation. This game is free and open to the public.
LOCATION:Alder Recreation Center
UID:e.40.10743
SEQUENCE:3
DTSTAMP:20260420T003125Z
URL:http://business.kittitascountychamber.com/events/details/men-s-lacrosse-vs-seattle-university-10-26-2013-10743
END:VEVENT

END:VCALENDAR
