BEGIN:VCALENDAR
VERSION:2.0
PRODID:-//ChamberMaster//Event Calendar 2.0//EN
METHOD:PUBLISH
X-PUBLISHED-TTL:P3D
REFRESH-INTERVAL:P3D
CALSCALE:GREGORIAN
BEGIN:VEVENT
DTSTART:20131020T200000Z
DTEND:20131020T230000Z
X-MICROSOFT-CDO-ALLDAYEVENT:FALSE
SUMMARY:Men?s Soccer vs. EWU
DESCRIPTION:Central Washington University's Men's Club Soccer team plays against Eastern Washington University on Sunday\, Oct. 20 at 1 p.m. at Varsity Soccer Complex. The game is free and everyone is welcome to attend.
X-ALT-DESC;FMTTYPE=text/html:Central Washington University&#39\;s Men&#39\;s Club Soccer team plays against Eastern Washington University on Sunday\, Oct. 20 at 1 p.m. at Varsity Soccer Complex. The game is free and everyone is welcome to attend.
LOCATION:Varsity Soccer Complex
UID:e.40.10741
SEQUENCE:3
DTSTAMP:20260420T003155Z
URL:http://business.kittitascountychamber.com/events/details/men-s-soccer-vs-ewu-10-20-2013-10741
END:VEVENT

END:VCALENDAR
