BEGIN:VCALENDAR
VERSION:2.0
PRODID:-//ChamberMaster//Event Calendar 2.0//EN
METHOD:PUBLISH
X-PUBLISHED-TTL:P3D
REFRESH-INTERVAL:P3D
CALSCALE:GREGORIAN
BEGIN:VEVENT
DTSTART:20131019T200000Z
DTEND:20131019T230000Z
X-MICROSOFT-CDO-ALLDAYEVENT:FALSE
SUMMARY:Men's Soccer vs. Gonzaga
DESCRIPTION:Come cheer on Central Washington University's Men's Club Soccer as the play against Gonzaga University on Saturday\, Oct. 19 at 1 p.m. at Varsity Soccer Complex. The game is free and everyone is welcome to attend.
X-ALT-DESC;FMTTYPE=text/html:Come cheer on Central Washington University&#39\;s Men&#39\;s Club Soccer as the play against Gonzaga University on Saturday\, Oct. 19 at 1 p.m. at Varsity Soccer Complex. The game is free and everyone is welcome to attend.
LOCATION:Varsity Soccer Complex
UID:e.40.10738
SEQUENCE:3
DTSTAMP:20260420T003253Z
URL:http://business.kittitascountychamber.com/events/details/men-s-soccer-vs-gonzaga-10-19-2013-10738
END:VEVENT

END:VCALENDAR
