BEGIN:VCALENDAR
VERSION:2.0
PRODID:-//ChamberMaster//Event Calendar 2.0//EN
METHOD:PUBLISH
X-PUBLISHED-TTL:P3D
REFRESH-INTERVAL:P3D
CALSCALE:GREGORIAN
BEGIN:VEVENT
DTSTART:20131012T171000Z
DTEND:20131012T200000Z
X-MICROSOFT-CDO-ALLDAYEVENT:FALSE
SUMMARY:Men's Water Polo vs. Oregon State
DESCRIPTION:Watch as Central Washington University?s Men?s Water Polo team play against Oregon State University on Saturday\, Oct. 12 at 10:10 a.m. at the CWU Aquatic Center. The game is free and everyone is welcome to attend.
X-ALT-DESC;FMTTYPE=text/html:Watch as Central Washington University?s Men?s Water Polo team play against Oregon State University on Saturday\, Oct. 12 at 10:10 a.m. at the CWU Aquatic Center. The game is free and everyone is welcome to attend.
LOCATION:CWU Aquatic Center
UID:e.40.10734
SEQUENCE:3
DTSTAMP:20260420T003321Z
URL:http://business.kittitascountychamber.com/events/details/men-s-water-polo-vs-oregon-state-10-12-2013-10734
END:VEVENT

END:VCALENDAR
