BEGIN:VCALENDAR
VERSION:2.0
PRODID:-//ChamberMaster//Event Calendar 2.0//EN
METHOD:PUBLISH
X-PUBLISHED-TTL:P3D
REFRESH-INTERVAL:P3D
CALSCALE:GREGORIAN
BEGIN:VEVENT
DTSTART:20131013T182000Z
DTEND:20131013T210000Z
X-MICROSOFT-CDO-ALLDAYEVENT:FALSE
SUMMARY:Men's Water Polo vs. Seattle University
DESCRIPTION:Watch as Central Washington University's Men's Water Polo team play against Seattle University on Sunday\, Oct. 13 at 11:20 a.m. at the CWU Aquatic Center. The game is free and everyone is welcome to attend.
X-ALT-DESC;FMTTYPE=text/html:Watch as Central Washington University&#39\;s Men&#39\;s Water Polo team play against Seattle University on Sunday\, Oct. 13 at 11:20 a.m. at the CWU Aquatic Center. The game is free and everyone is welcome to attend.
LOCATION:CWU Aquatic Center
UID:e.40.10736
SEQUENCE:3
DTSTAMP:20260420T003236Z
URL:http://business.kittitascountychamber.com/events/details/men-s-water-polo-vs-seattle-university-10-13-2013-10736
END:VEVENT

END:VCALENDAR
