BEGIN:VCALENDAR
VERSION:2.0
PRODID:-//ChamberMaster//Event Calendar 2.0//EN
METHOD:PUBLISH
X-PUBLISHED-TTL:P3D
REFRESH-INTERVAL:P3D
CALSCALE:GREGORIAN
BEGIN:VEVENT
DTSTART:20130314T003000Z
DTEND:20130314T013000Z
X-MICROSOFT-CDO-ALLDAYEVENT:FALSE
SUMMARY:Menopause 101
DESCRIPTION:Dr. Ginger Longo and Teresa Beckett of KVH Women's Health host a free seminar on Wednesday\, March 13 at KVH Family Medicine in Cle Elum\, behind McDonald's on Alpha Way. Learn about about symptoms of menopause\, treatments for symptom relief\, and routine care for the menopausal woman.
X-ALT-DESC;FMTTYPE=text/html:Dr. Ginger Longo and Teresa Beckett of KVH Women&rsquo\;s Health host a free seminar on Wednesday\, March 13 at KVH Family Medicine in Cle Elum\, behind McDonald&rsquo\;s on Alpha Way. Learn about about symptoms of menopause\, treatments for symptom relief\, and routine care for the menopausal woman.
LOCATION:KVH Family Medicine - Cle Elum
UID:e.40.9250
SEQUENCE:3
DTSTAMP:20260420T113938Z
URL:http://business.kittitascountychamber.com/events/details/menopause-101-03-13-2013-9250
END:VEVENT

END:VCALENDAR
