BEGIN:VCALENDAR
VERSION:2.0
PRODID:-//ChamberMaster//Event Calendar 2.0//EN
METHOD:PUBLISH
X-PUBLISHED-TTL:P3D
REFRESH-INTERVAL:P3D
CALSCALE:GREGORIAN
BEGIN:VEVENT
DTSTART:20140319T003000Z
DTEND:20140319T013000Z
X-MICROSOFT-CDO-ALLDAYEVENT:FALSE
SUMMARY:Menopause 101
DESCRIPTION:KVH Women?s health presents this informative and supportive evening. Ginger Longo\, MD\, and Teresa Beckett\, PA-C discuss the symptoms of menopause\, treatments for symptom relief\, and routine care for menopausal women.
X-ALT-DESC;FMTTYPE=text/html:KVH Women?s health presents this informative and supportive evening. Ginger Longo\, MD\, and Teresa Beckett\, PA-C discuss the symptoms of menopause\, treatments for symptom relief\, and routine care for menopausal women.
LOCATION:KVH Hospital\, 603 S. Chestnut\, Ellensburg
UID:e.40.11137
SEQUENCE:3
DTSTAMP:20260419T161358Z
URL:http://business.kittitascountychamber.com/events/details/menopause-101-03-18-2014-11137
END:VEVENT

END:VCALENDAR
