BEGIN:VCALENDAR
VERSION:2.0
PRODID:-//ChamberMaster//Event Calendar 2.0//EN
METHOD:PUBLISH
X-PUBLISHED-TTL:P3D
REFRESH-INTERVAL:P3D
CALSCALE:GREGORIAN
BEGIN:VEVENT
DTSTART:20130603T160000Z
DTEND:20130603T230000Z
X-MICROSOFT-CDO-ALLDAYEVENT:FALSE
SUMMARY:Mental Health First Aid
DESCRIPTION:Mental Health First Aid -  This 12-hour program prepares community members to identify\, understand\, and respond to signs of a person developing a mental health problem\, or experiencing a mental health crisis until professional treatment arrives or until the crisis resolves. This process is applied in a variety of situations such as:\n\n	\n		Helping someone through a panic attack\n	\n		Engaging with someone who may be suicidal\n	\n		Supporting a person experiencing psychosis\n	\n		Helping an individual who has overdosed\n\nProgram participants learn a 5-Step Process to Assess the situation with confidence\, Select and implement appropriate actions\, and Help an individual in crisis connect with professional care.\n\n\n\nPresented by Jim Pinnell\, a Mental Health First Aid Instructor\n\n\n\nDates: June 3 and 17 (must attend both days for full content)\n\nTime: 9:00am - 4pm (lunch on your own from 12:00-1:00)\n\nCost: $59.00 to be paid day of conference (includes both days\, all 12 hours\, and course book\n\nLocation: Hearthstone Cottage Retirement: 802 East Mountain View Ave (South Entrance\, at the covered portico)\n\nContact: Aging and Disability Resource Center (509) 925-8765\n\nPRE_REGISTRATION IS REQUIRED.\n\n\n\nSponsored by Southeast Washington ATLC Aging & Disability Resource Center\, Central Washington Comprehensive Mental Health and Hearthstone Cottage Retirement
X-ALT-DESC;FMTTYPE=text/html:Mental Health First Aid -&nbsp\; This 12-hour program prepares community members to identify\, understand\, and respond to signs of a person developing a mental health problem\, or experiencing a mental health crisis until professional treatment arrives or until the crisis resolves. This process is applied in a variety of situations such as:\n<ul>\n	<li>\n		Helping someone through a panic attack</li>\n	<li>\n		Engaging with someone who may be suicidal</li>\n	<li>\n		Supporting a person experiencing psychosis</li>\n	<li>\n		Helping an individual who has overdosed</li>\n</ul>\nProgram participants learn a 5-Step Process to <strong>Assess </strong>the situation with confidence\, <strong>Select </strong>and implement appropriate actions\, and <strong>Help </strong>an individual in crisis connect with professional care.<br />\n<br />\nPresented by Jim Pinnell\, a Mental Health First Aid Instructor<br />\n<br />\n<strong>Dates:</strong> June 3 and 17 (must attend both days for full content)<br />\n<strong>Time:</strong> 9:00am - 4pm (lunch on your own from 12:00-1:00)<br />\n<strong>Cost:</strong> $59.00 to be paid day of conference (includes both days\, all 12 hours\, and course book<br />\n<strong>Location: </strong>Hearthstone Cottage Retirement: 802 East Mountain View Ave (South Entrance\, at the covered portico)<br />\n<strong>Contact:</strong> Aging and Disability Resource Center (509) 925-8765<br />\nPRE_REGISTRATION IS REQUIRED.<br />\n<br />\nSponsored by Southeast Washington ATLC Aging &amp\; Disability Resource Center\, Central Washington Comprehensive Mental Health and Hearthstone Cottage Retirement
LOCATION:Hearthstone Cottage Retirement: 802 East Mountain View Ave (South Entrance\, at the covered portico)
UID:e.40.10096
SEQUENCE:3
DTSTAMP:20260420T064858Z
URL:http://business.kittitascountychamber.com/events/details/mental-health-first-aid-06-03-2013-10096
END:VEVENT

END:VCALENDAR
