BEGIN:VCALENDAR
VERSION:2.0
PRODID:-//ChamberMaster//Event Calendar 2.0//EN
METHOD:PUBLISH
X-PUBLISHED-TTL:P3D
REFRESH-INTERVAL:P3D
CALSCALE:GREGORIAN
BEGIN:VEVENT
DTSTART:20140425T010000Z
DTEND:20140425T030000Z
X-MICROSOFT-CDO-ALLDAYEVENT:FALSE
SUMMARY:Microsoft Excel Class
DESCRIPTION:Ellensburg Community Schools Offers Microsoft Excel -  Learn all about the Excel program. This class will cover all your questions on how to use Excel spreadsheets\, how to use formulas when calculating data\, charts\, auto sum\, sorting and much more April 24 & May 1 (Thursdays) 6pm - 8pm Pre-Register via online (http://calaway.net/ECS/)\, phone (509-925-8017)\, or form (http://community-schools.ellensburg.schoolfusion.us/modules/locker/files/group_files.phtml?parent=2729088&gid=511234&sessionid=6b10f5f60b9a3db93a547b40b7fe3d4a)
X-ALT-DESC;FMTTYPE=text/html:Ellensburg Community Schools Offers Microsoft Excel -&nbsp\; Learn all about the Excel program. This class will cover all your questions on how to use Excel spreadsheets\, how to use formulas when calculating data\, charts\, auto sum\, sorting and much more April 24 &amp\; May 1 (Thursdays) 6pm - 8pm Pre-Register via online (http://calaway.net/ECS/)\, phone (509-925-8017)\, or form (http://community-schools.ellensburg.schoolfusion.us/modules/locker/files/group_files.phtml?parent=2729088&amp\;gid=511234&amp\;sessionid=6b10f5f60b9a3db93a547b40b7fe3d4a)
LOCATION:Ellensburg High School\, RM E126
UID:e.40.11352
SEQUENCE:3
DTSTAMP:20260419T143447Z
URL:http://business.kittitascountychamber.com/events/details/microsoft-excel-class-04-24-2014-11352
END:VEVENT

END:VCALENDAR
