BEGIN:VCALENDAR
VERSION:2.0
PRODID:-//ChamberMaster//Event Calendar 2.0//EN
METHOD:PUBLISH
X-PUBLISHED-TTL:P3D
REFRESH-INTERVAL:P3D
CALSCALE:GREGORIAN
BEGIN:VEVENT
DTSTART:20140423T010000Z
DTEND:20140423T030000Z
X-MICROSOFT-CDO-ALLDAYEVENT:FALSE
SUMMARY:Microsoft PowerPoint Class
DESCRIPTION:Ellensburg Community Schools Offers Microsoft PowerPoint -  Create professional looking presentations using templates\, special effects\, videos and visual enhancers. April 22 & 29 (Tuesdays) 6pm - 8pm Pre-Register via online (http://calaway.net/ECS/)\, phone (509-925-8017)\, or form (http://community-schools.ellensburg.schoolfusion.us/modules/locker/files/group_files.phtml?parent=2729088&gid=511234&sessionid=6b10f5f60b9a3db93a547b40b7fe3d4a)
X-ALT-DESC;FMTTYPE=text/html:Ellensburg Community Schools Offers Microsoft PowerPoint -&nbsp\; Create professional looking presentations using templates\, special effects\, videos and visual enhancers. April 22 &amp\; 29 (Tuesdays) 6pm - 8pm Pre-Register via online (http://calaway.net/ECS/)\, phone (509-925-8017)\, or form (http://community-schools.ellensburg.schoolfusion.us/modules/locker/files/group_files.phtml?parent=2729088&amp\;gid=511234&amp\;sessionid=6b10f5f60b9a3db93a547b40b7fe3d4a)
LOCATION:Ellensburg High School\, RM E126
UID:e.40.11350
SEQUENCE:3
DTSTAMP:20260419T160859Z
URL:http://business.kittitascountychamber.com/events/details/microsoft-powerpoint-class-04-22-2014-11350
END:VEVENT

END:VCALENDAR
