BEGIN:VCALENDAR
VERSION:2.0
PRODID:-//ChamberMaster//Event Calendar 2.0//EN
METHOD:PUBLISH
X-PUBLISHED-TTL:P3D
REFRESH-INTERVAL:P3D
CALSCALE:GREGORIAN
BEGIN:VEVENT
DTSTART;VALUE=DATE:20121123
DTEND;VALUE=DATE:20121124
TRANSP:TRANSPARENT
X-MICROSOFT-CDO-ALLDAYEVENT:TRUE
SUMMARY:Moments to Remember
DESCRIPTION:The twinkle of lights\, a dancer's smile and an alley filled with angels and music. These are just a few of the moments cherished on the day after Thanksgiving in the City of Ellensburg. Moments to Remember is an event steeped in tradition\, with generations of families visiting the downtown each year to share in the warmth of a community's commitment to the holidays.
X-ALT-DESC;FMTTYPE=text/html:The twinkle of lights\, a dancer&rsquo\;s smile and an alley filled with angels and music. These are just a few of the moments cherished on the day after Thanksgiving in the City of Ellensburg. Moments to Remember is an event steeped in tradition\, with generations of families visiting the downtown each year to share in the warmth of a community&rsquo\;s commitment to the holidays.
LOCATION:Downtown Ellensburg
UID:e.40.5698
SEQUENCE:3
DTSTAMP:20260420T201911Z
URL:http://business.kittitascountychamber.com/events/details/moments-to-remember-11-23-2012-5698
END:VEVENT

END:VCALENDAR
