BEGIN:VCALENDAR
VERSION:2.0
PRODID:-//ChamberMaster//Event Calendar 2.0//EN
METHOD:PUBLISH
X-PUBLISHED-TTL:P3D
REFRESH-INTERVAL:P3D
CALSCALE:GREGORIAN
BEGIN:VEVENT
DTSTART:20130708T160000Z
DTEND:20130712T220000Z
X-MICROSOFT-CDO-ALLDAYEVENT:FALSE
SUMMARY:Monos & Multiples in Printmaking
DESCRIPTION:Explore different types of printmaking and get inspired by a variety of artists.  Experiment with collograph\, monoprints and more\n\n\n\nGeneral Information:  Join us for these fun summer art camps for kids.  They're a Gallery One tradition.  Get out of the heat this simmer and make art with us.  Each camp has a theme and includes breaks for lunch and games.
X-ALT-DESC;FMTTYPE=text/html:Explore different types of printmaking and get inspired by a variety of artists.&nbsp\; Experiment with collograph\, monoprints and more<br />\n<br />\n<span style="color: #ff0000">General Information:&nbsp\; </span>Join us for these fun summer art camps for kids.&nbsp\; They&#39\;re a Gallery One tradition.&nbsp\; Get out of the heat this simmer and make art with us.&nbsp\; Each camp has a theme and includes breaks for lunch and games.
LOCATION:Gallery One 408 N. Pearl St
UID:e.40.10276
SEQUENCE:3
DTSTAMP:20260420T050251Z
URL:http://business.kittitascountychamber.com/events/details/monos-multiples-in-printmaking-07-08-2013-10276
END:VEVENT

END:VCALENDAR
