BEGIN:VCALENDAR
VERSION:2.0
PRODID:-//ChamberMaster//Event Calendar 2.0//EN
METHOD:PUBLISH
X-PUBLISHED-TTL:P3D
REFRESH-INTERVAL:P3D
CALSCALE:GREGORIAN
BEGIN:VEVENT
DTSTART:20130512T170000Z
DTEND:20130512T220000Z
X-MICROSOFT-CDO-ALLDAYEVENT:FALSE
SUMMARY:Mothers Day Brunch 2013
DESCRIPTION:
X-ALT-DESC;FMTTYPE=text/html:
LOCATION:Swiftwater Cellars 301 Rope Rider Drive Cle Elum Wa\, 98922
UID:e.40.10261
SEQUENCE:3
DTSTAMP:20260420T083314Z
URL:http://business.kittitascountychamber.com/events/details/mothers-day-brunch-2013-05-12-2013-10261
END:VEVENT

END:VCALENDAR
