BEGIN:VCALENDAR
VERSION:2.0
PRODID:-//ChamberMaster//Event Calendar 2.0//EN
METHOD:PUBLISH
X-PUBLISHED-TTL:P3D
REFRESH-INTERVAL:P3D
CALSCALE:GREGORIAN
BEGIN:VEVENT
DTSTART:20131009T023000Z
DTEND:20131009T043000Z
X-MICROSOFT-CDO-ALLDAYEVENT:FALSE
SUMMARY:Mr. and Ms. Central Finals
DESCRIPTION:Mr. and Ms. Central Finals Tuesday\, Oct 8\, 2013 7:30 pm You'll want to head to the SURC Ballroom to see firsthand the crowning of Mr. and Ms. Central! This long-standing tradition is the the final talent competition between the best of the best from all the residence halls\, which will have been hosting their own competitions for weeks. From comic shenanigans to amazing music\, you never know what you'll see. But one thing's for sure: you'll want to witness those winning performances firsthand!
X-ALT-DESC;FMTTYPE=text/html:Mr. and Ms. Central Finals Tuesday\, Oct 8\, 2013 7:30 pm You&#39\;ll want to head to the SURC Ballroom to see firsthand the crowning of Mr. and Ms. Central! This long-standing tradition is the the final talent competition between the best of the best from all the residence halls\, which will have been hosting their own competitions for weeks. From comic shenanigans to amazing music\, you never know what you&#39\;ll see. But one thing&#39\;s for sure: you&#39\;ll want to witness those winning performances firsthand! 
LOCATION:CWU Student Union and Recreation Center (SURC) Ballroom
UID:e.40.10754
SEQUENCE:3
DTSTAMP:20260420T002817Z
URL:http://business.kittitascountychamber.com/events/details/mr-and-ms-central-finals-10-08-2013-10754
END:VEVENT

END:VCALENDAR
