BEGIN:VCALENDAR
VERSION:2.0
PRODID:-//ChamberMaster//Event Calendar 2.0//EN
METHOD:PUBLISH
X-PUBLISHED-TTL:P3D
REFRESH-INTERVAL:P3D
CALSCALE:GREGORIAN
BEGIN:VEVENT
DTSTART:20140330T000000Z
DTEND:20140330T050000Z
X-MICROSOFT-CDO-ALLDAYEVENT:FALSE
SUMMARY:Mule Deer Foundation - First Fund-Raising Banquet
DESCRIPTION:Saturday March 29\, 2014 is the first Mule Deer Foundation Fundraising Banquet.  MDF is one of the most efficient\, highest ranked non-profit organizations in America\, making sure the largest percentage possible of net revenue goes toward on-the-ground projects and mission accomplished. To ensure the conservation of Mule Deer\, Black-tailed Deer and their habitat.
X-ALT-DESC;FMTTYPE=text/html:Saturday March 29\, 2014 is the first Mule Deer Foundation Fundraising Banquet. &nbsp\;MDF is one of the most efficient\, highest ranked non-profit organizations in America\, making sure the largest percentage possible of net revenue goes toward on-the-ground projects and mission accomplished. To ensure the conservation of Mule Deer\, Black-tailed Deer and their habitat.
LOCATION:Spurs Restaurant and Convention Center at the Quality Inn 1700 Canyon Rd
UID:e.40.11165
SEQUENCE:3
DTSTAMP:20260419T161527Z
URL:http://business.kittitascountychamber.com/events/details/mule-deer-foundation-first-fund-raising-banquet-03-29-2014-11165
END:VEVENT

END:VCALENDAR
