BEGIN:VCALENDAR
VERSION:2.0
PRODID:-//ChamberMaster//Event Calendar 2.0//EN
METHOD:PUBLISH
X-PUBLISHED-TTL:P3D
REFRESH-INTERVAL:P3D
CALSCALE:GREGORIAN
BEGIN:VEVENT
DTSTART:20131206T030000Z
DTEND:20131206T043000Z
X-MICROSOFT-CDO-ALLDAYEVENT:FALSE
SUMMARY:Museum-Library Book Club
DESCRIPTION:The Museum of Culture and Environment has partnered with the Ellensburg Public Library to create the new Museum-Library Book Club. The Club's first book will be Richard Wrangham's Catching Fire: How Cooking Made Us Human. This event is being held in conjunction with the Museum of Culture & Environment's exhibit Where There's Smoke... Living with Fire. A discussion of the book will be held at the Ellensburg Public Library on Thursday\, Dec. 5 at 7:00 p.m. The book is available for check-out at both the public library and the CWU library and can be purchased at local bookstores and the Wildcat Shop on the CWU campus. The MCE is located in Dean Hall on the CWU campus\, 1200 N. D Street. The Museum?s hours are Wednesday through Friday 11:00 a.m. ? 4:00 p.m. and Saturday from 10:00 a.m. to 3:00 p.m. Parking is free on the CWU campus weekdays after 4:30 p.m. and on weekends.
X-ALT-DESC;FMTTYPE=text/html:The Museum of Culture and Environment has partnered with the Ellensburg Public Library to create the new Museum-Library Book Club. The Club&#39\;s first book will be Richard Wrangham&#39\;s Catching Fire: How Cooking Made Us Human. This event is being held in conjunction with the Museum of Culture &amp\; Environment&#39\;s exhibit Where There&#39\;s Smoke... Living with Fire. A discussion of the book will be held at the Ellensburg Public Library on Thursday\, Dec. 5 at 7:00 p.m. The book is available for check-out at both the public library and the CWU library and can be purchased at local bookstores and the Wildcat Shop on the CWU campus. The MCE is located in Dean Hall on the CWU campus\, 1200 N. D Street. The Museum?s hours are Wednesday through Friday 11:00 a.m. ? 4:00 p.m. and Saturday from 10:00 a.m. to 3:00 p.m. Parking is free on the CWU campus weekdays after 4:30 p.m. and on weekends. 
LOCATION:Ellensburg Public Library\, 209 N Ruby St
UID:e.40.10812
SEQUENCE:3
DTSTAMP:20260419T211008Z
URL:http://business.kittitascountychamber.com/events/details/museum-library-book-club-12-05-2013-10812
END:VEVENT

END:VCALENDAR
