BEGIN:VCALENDAR
VERSION:2.0
PRODID:-//ChamberMaster//Event Calendar 2.0//EN
METHOD:PUBLISH
X-PUBLISHED-TTL:P3D
REFRESH-INTERVAL:P3D
CALSCALE:GREGORIAN
BEGIN:VEVENT
DTSTART:20131006T023000Z
DTEND:20131006T040000Z
X-MICROSOFT-CDO-ALLDAYEVENT:FALSE
SUMMARY:Music in the Pit Presents: Mike Edel
DESCRIPTION:All the way from Victoria BC\, Mike Edel and his band bring their sound to the Student Union and Recreation Center (SURC) Pit Tuesday\, Nov. 5 at 7:30 p.m. for a free show. Compared to the likes of Ryan Adams\, John Mayer and the Counting Crows\, Mike Edel offers audiences a gentle sound covering universal themes such as lost love\, fear\, family\, travel and the divine. With lyrics that enlighten infinite possibilities of youth and a yearning for home\, Mike Edel will leave audiences questioning what it means to be a human being.  For more information contact CWU Campus Activities at 509-963-1450.
X-ALT-DESC;FMTTYPE=text/html:All the way from Victoria BC\, Mike Edel and his band bring their sound to the Student Union and Recreation Center (SURC) Pit Tuesday\, Nov. 5 at 7:30 p.m. for a free show. Compared to the likes of Ryan Adams\, John Mayer and the Counting Crows\, Mike Edel offers audiences a gentle sound covering universal themes such as lost love\, fear\, family\, travel and the divine. With lyrics that enlighten infinite possibilities of youth and a yearning for home\, Mike Edel will leave audiences questioning what it means to be a human being.&nbsp\; For more information contact CWU Campus Activities at 509-963-1450. 
LOCATION:Student Union and Recreation Center Ballroom
UID:e.40.10797
SEQUENCE:3
DTSTAMP:20260420T003235Z
URL:http://business.kittitascountychamber.com/events/details/music-in-the-pit-presents-mike-edel-10-05-2013-10797
END:VEVENT

END:VCALENDAR
