BEGIN:VCALENDAR
VERSION:2.0
PRODID:-//ChamberMaster//Event Calendar 2.0//EN
METHOD:PUBLISH
X-PUBLISHED-TTL:P3D
REFRESH-INTERVAL:P3D
CALSCALE:GREGORIAN
BEGIN:VEVENT
DTSTART:20131102T010000Z
DTEND:20131102T040000Z
X-MICROSOFT-CDO-ALLDAYEVENT:FALSE
SUMMARY:Mustache Movember Shave Off
DESCRIPTION:Movember is the month formerly known as November\, where men across the globe join together to raise awareness and funds for men?s health issues ? specifically prostate and testicular cancer. This year Kittitas Valley Fire & Rescue Firefighters are challenging the cowboys to a mustache growing contest. The initial shave off will take place at The Palace Cafe where participants will get clean shaven and register at us.movember.com.
X-ALT-DESC;FMTTYPE=text/html:Movember is the month formerly known as November\, where men across the globe join together to raise awareness and funds for men?s health issues ? specifically prostate and testicular cancer.&nbsp\;This year Kittitas Valley Fire &amp\; Rescue Firefighters are challenging the cowboys to a mustache growing contest. The initial shave off will take place at The Palace Cafe where participants will get clean shaven and register at us.movember.com.
LOCATION:The Palace Cafe
UID:e.40.10803
SEQUENCE:3
DTSTAMP:20260419T225056Z
URL:http://business.kittitascountychamber.com/events/details/mustache-movember-shave-off-11-01-2013-10803
END:VEVENT

END:VCALENDAR
