BEGIN:VCALENDAR
VERSION:2.0
PRODID:-//ChamberMaster//Event Calendar 2.0//EN
METHOD:PUBLISH
X-PUBLISHED-TTL:P3D
REFRESH-INTERVAL:P3D
CALSCALE:GREGORIAN
BEGIN:VEVENT
DTSTART:20130823T160000Z
DTEND:20130826T000000Z
X-MICROSOFT-CDO-ALLDAYEVENT:FALSE
SUMMARY:Northwest Miner's Rally
DESCRIPTION:The Northwest Miner's Rally will be held outside of the town of Liberty (watch for signs) There will be demos. Reports on prospecting and mining from the Legislators. Dry Camping will also be available.
X-ALT-DESC;FMTTYPE=text/html:The Northwest Miner&#39\;s Rally will be held outside of the town of Liberty (watch for signs) There will be demos. Reports on prospecting and mining from the Legislators. Dry Camping will also be available.
LOCATION:SR 97 at the town of Liberty - watch for the signs
UID:e.40.10330
SEQUENCE:3
DTSTAMP:20260420T032851Z
URL:http://business.kittitascountychamber.com/events/details/northwest-miner-s-rally-08-23-2013-10330
END:VEVENT

END:VCALENDAR
