BEGIN:VCALENDAR
VERSION:2.0
PRODID:-//ChamberMaster//Event Calendar 2.0//EN
METHOD:PUBLISH
X-PUBLISHED-TTL:P3D
REFRESH-INTERVAL:P3D
CALSCALE:GREGORIAN
BEGIN:VEVENT
DTSTART:20131117T023000Z
DTEND:20131117T023000Z
X-MICROSOFT-CDO-ALLDAYEVENT:FALSE
SUMMARY:Old TIme Barn Dance
DESCRIPTION:Old Time Barn Dance at the Swauk Teanaway Grange.  Saturday November 16\, 2013.  Doors open at 6:30 and the fun begins at 7:00 pm.\n\nMusic by Lem Pratt and The Cascade Rangers.  Tunes from the 40's through today.\n\nThis is a family friendly event.\n\nPlease bring finger food or a dessert to share.
X-ALT-DESC;FMTTYPE=text/html:Old Time Barn Dance at the Swauk Teanaway Grange.&nbsp\; Saturday November 16\, 2013.&nbsp\; Doors open at 6:30 and the fun begins at 7:00 pm.<br />\nMusic by Lem Pratt and The Cascade Rangers.&nbsp\; Tunes from the 40&#39\;s through today.<br />\nThis is a family friendly event.<br />\n<span style="color: #800080">Please bring finger food or a dessert to share</span>.
LOCATION:Swauk Teanaway Grange 1361 Ballard Hill Rd Cle Elum
UID:e.40.10821
SEQUENCE:3
DTSTAMP:20260419T224833Z
URL:http://business.kittitascountychamber.com/events/details/old-time-barn-dance-11-16-2013-10821
END:VEVENT

END:VCALENDAR
