BEGIN:VCALENDAR
VERSION:2.0
PRODID:-//ChamberMaster//Event Calendar 2.0//EN
METHOD:PUBLISH
X-PUBLISHED-TTL:P3D
REFRESH-INTERVAL:P3D
CALSCALE:GREGORIAN
BEGIN:VEVENT
DTSTART:20130422T170000Z
DTEND:20130422T210000Z
X-MICROSOFT-CDO-ALLDAYEVENT:FALSE
SUMMARY:Olmstead Place Earth Day: Mt. Stuart ElemenTree
DESCRIPTION:Olmstead Place Earth Day: Mt. Stuart ElemenTree Monday\, April 22 10 a.m.\, meet at the SURC Free\, open to everyone As part of Environmental Awareness Week\, the Center for Leadership and Community Engagement (CLCE) is partnering with the 5th grade classes from Mt. Stuart Elementary School to host an Earth Day field trip at Olmstead Place State Farm. Volunteers will host educational and fun activities for the 5th graders\, such as planting trees\, touring the old farming equipment on display and creating jump ropes from recycled materials. Those interested in volunteering can register online at www.takeactioncwu.com. Sponsors: CLCE\, Washington State Parks
X-ALT-DESC;FMTTYPE=text/html:Olmstead Place Earth Day: Mt. Stuart ElemenTree Monday\, April 22 10 a.m.\, meet at the SURC Free\, open to everyone As part of Environmental Awareness Week\, the Center for Leadership and Community Engagement (CLCE) is partnering with the 5th grade classes from Mt. Stuart Elementary School to host an Earth Day field trip at Olmstead Place State Farm. Volunteers will host educational and fun activities for the 5th graders\, such as planting trees\, touring the old farming equipment on display and creating jump ropes from recycled materials. Those interested in volunteering can register online at www.takeactioncwu.com. Sponsors: CLCE\, Washington State Parks 
LOCATION:CWU SURC
UID:e.40.10143
SEQUENCE:3
DTSTAMP:20260420T100649Z
URL:http://business.kittitascountychamber.com/events/details/olmstead-place-earth-day-mt-stuart-elementree-04-22-2013-10143
END:VEVENT

END:VCALENDAR
