BEGIN:VCALENDAR
VERSION:2.0
PRODID:-//ChamberMaster//Event Calendar 2.0//EN
METHOD:PUBLISH
X-PUBLISHED-TTL:P3D
REFRESH-INTERVAL:P3D
CALSCALE:GREGORIAN
BEGIN:VEVENT
DTSTART:20130420T163000Z
DTEND:20130420T210000Z
X-MICROSOFT-CDO-ALLDAYEVENT:FALSE
SUMMARY:Olmstead Place Spring Cleanup
DESCRIPTION:Olmstead Place Spring Cleanup Saturday\, April 20 9:30 a.m.\, meet at SURC East Patio Free\, open to everyone As part of Environmental Awareness Week\, the Center for Leadership and Community Engagement (CLCE) will help preserve the historic Olmstead Place farmstead for future generations through tasks such as weeding\, maintaining trails and laying down bark. Volunteers will receive a free breakfast and lunch. Those interested in volunteering can register online at www.takeactioncwu.com. Sponsors: CLCE\, Washington State Parks
X-ALT-DESC;FMTTYPE=text/html:Olmstead Place Spring Cleanup Saturday\, April 20 9:30 a.m.\, meet at SURC East Patio Free\, open to everyone As part of Environmental Awareness Week\, the Center for Leadership and Community Engagement (CLCE) will help preserve the historic Olmstead Place farmstead for future generations through tasks such as weeding\, maintaining trails and laying down bark. Volunteers will receive a free breakfast and lunch. Those interested in volunteering can register online at www.takeactioncwu.com. Sponsors: CLCE\, Washington State Parks 
LOCATION:Meet at CWU SURC East Patio
UID:e.40.10142
SEQUENCE:3
DTSTAMP:20260420T100157Z
URL:http://business.kittitascountychamber.com/events/details/olmstead-place-spring-cleanup-04-20-2013-10142
END:VEVENT

END:VCALENDAR
