BEGIN:VCALENDAR
VERSION:2.0
PRODID:-//ChamberMaster//Event Calendar 2.0//EN
METHOD:PUBLISH
X-PUBLISHED-TTL:P3D
REFRESH-INTERVAL:P3D
CALSCALE:GREGORIAN
BEGIN:VEVENT
DTSTART:20140426T163000Z
DTEND:20140426T200000Z
X-MICROSOFT-CDO-ALLDAYEVENT:FALSE
SUMMARY:Olmstead Spring Cleanup
DESCRIPTION:Olmstead Spring Cleanup Saturday\, April 26 9:30 a.m. to 1 p.m. SURC Pit FREE To celebrate Earth Week and to help preserve the historic Olmstead Place farmstead\, Washington State Parks and the Center for Leadership and Community Engagement invite volunteers to join them for the Olmstead Spring Cleanup Saturday\, April 26 at 9:30 a.m. Volunteers will meet in the Student Union and Recreation Center (SURC) Pit and then be provided transportation to Olmstead Place. Activities will include maintaining trails\, weeding and laying down bark. All volunteers will be provided breakfast and lunch\, as well as a morning enjoying the sunshine and helping their community. To register visit www.cwu.edu/leadership-engage. For more information please contact the Center for Leadership and Community engagement at 509-963-1850 or clce@cwu.edu.
X-ALT-DESC;FMTTYPE=text/html:Olmstead Spring Cleanup Saturday\, April 26 9:30 a.m. to 1 p.m. SURC Pit FREE To celebrate Earth Week and to help preserve the historic Olmstead Place farmstead\, Washington State Parks and the Center for Leadership and Community Engagement invite volunteers to join them for the Olmstead Spring Cleanup Saturday\, April 26 at 9:30 a.m. Volunteers will meet in the Student Union and Recreation Center (SURC) Pit and then be provided transportation to Olmstead Place. Activities will include maintaining trails\, weeding and laying down bark. All volunteers will be provided breakfast and lunch\, as well as a morning enjoying the sunshine and helping their community. To register visit www.cwu.edu/leadership-engage. For more information please contact the Center for Leadership and Community engagement at 509-963-1850 or clce@cwu.edu.
LOCATION:CWU Student Union and Recreation Center (SURC) Pit
UID:e.40.11326
SEQUENCE:3
DTSTAMP:20260419T161041Z
URL:http://business.kittitascountychamber.com/events/details/olmstead-spring-cleanup-04-26-2014-11326
END:VEVENT

END:VCALENDAR
