BEGIN:VCALENDAR
VERSION:2.0
PRODID:-//ChamberMaster//Event Calendar 2.0//EN
METHOD:PUBLISH
X-PUBLISHED-TTL:P3D
REFRESH-INTERVAL:P3D
CALSCALE:GREGORIAN
BEGIN:VEVENT
DTSTART:20140314T023000Z
DTEND:20140314T050000Z
X-MICROSOFT-CDO-ALLDAYEVENT:FALSE
SUMMARY:Open Mic After Dark
DESCRIPTION:Can you sing? Play an instrument? Do you think you have what it takes to be a comedian? Show off your talents at Open Mic After Dark Thursday\, March 13 in the Student Union and Recreation Center (SURC) Pit. Sign ups begin at 7:30 p.m. and performances begin at 8:10 p.m. Admission is free and open to the public. From musicians to poets to comedians\, the talent showcased at Open Mic After Dark is endless. Whether you want to put your talents on display or just want to come support\, the entertainment will not disappoint.   For more information call 509-963-1450.
X-ALT-DESC;FMTTYPE=text/html:Can you sing? Play an instrument? Do you think you have what it takes to be a comedian? Show off your talents at Open Mic After Dark Thursday\, March 13 in the Student Union and Recreation Center (SURC) Pit. Sign ups begin at 7:30 p.m. and performances begin at 8:10 p.m. Admission is free and open to the public. From musicians to poets to comedians\, the talent showcased at Open Mic After Dark is endless. Whether you want to put your talents on display or just want to come support\, the entertainment will not disappoint. &nbsp\; For more information call 509-963-1450. 
LOCATION:Student Union and Recreation Center (SURC) Pit.
UID:e.40.10904
SEQUENCE:3
DTSTAMP:20260419T161344Z
URL:http://business.kittitascountychamber.com/events/details/open-mic-after-dark-03-13-2014-10904
END:VEVENT

END:VCALENDAR
