BEGIN:VCALENDAR
VERSION:2.0
PRODID:-//ChamberMaster//Event Calendar 2.0//EN
METHOD:PUBLISH
X-PUBLISHED-TTL:P3D
REFRESH-INTERVAL:P3D
CALSCALE:GREGORIAN
BEGIN:VEVENT
DTSTART:20140425T023000Z
DTEND:20140425T040000Z
X-MICROSOFT-CDO-ALLDAYEVENT:FALSE
SUMMARY:Open Mic at Sunset at CWU
DESCRIPTION:For students with a flair for performing and anyone looking for a great show\, Campus Activities? Open Mic at Sunset is the perfect opportunity. Whether a student is a slam poet\, musician or comedian\, they are invited to entertain the crowd this event always draws. Either share a talent or sit back and enjoy the show Thursday\, April 24 in the CWU Student Union and Recreation Center (SURC) Pit. Sign ups for performers begin at 7:30 p.m. and the show kicks off at 8 p.m. Each show is open to the public\, and the variety of performers never fails to impress. For more information please contact Nick Faucett\, Campus Activities student programmer\, at 509-963-1450 or faucettn@cwu.edu.
X-ALT-DESC;FMTTYPE=text/html:For students with a flair for performing and anyone looking for a great show\, Campus Activities? Open Mic at Sunset is the perfect opportunity. Whether a student is a slam poet\, musician or comedian\, they are invited to entertain the crowd this event always draws. Either share a talent or sit back and enjoy the show Thursday\, April 24 in the CWU Student Union and Recreation Center (SURC) Pit. Sign ups for performers begin at 7:30 p.m. and the show kicks off at 8 p.m. Each show is open to the public\, and the variety of performers never fails to impress. For more information please contact Nick Faucett\, Campus Activities student programmer\, at 509-963-1450 or faucettn@cwu.edu.
LOCATION:CWU Student Union and Recreation Center (SURC) Pit
UID:e.40.11282
SEQUENCE:3
DTSTAMP:20260419T143804Z
URL:http://business.kittitascountychamber.com/events/details/open-mic-at-sunset-at-cwu-04-24-2014-11282
END:VEVENT

END:VCALENDAR
