BEGIN:VCALENDAR
VERSION:2.0
PRODID:-//ChamberMaster//Event Calendar 2.0//EN
METHOD:PUBLISH
X-PUBLISHED-TTL:P3D
REFRESH-INTERVAL:P3D
CALSCALE:GREGORIAN
BEGIN:VEVENT
DTSTART:20130214T010000Z
DTEND:20130214T030000Z
X-MICROSOFT-CDO-ALLDAYEVENT:FALSE
SUMMARY:Opening Reception\, Faculty Exhibition
DESCRIPTION:A biennial exhibition of recent artwork by current and emeritus faculty members in the CWU Department of Art.
X-ALT-DESC;FMTTYPE=text/html:A biennial exhibition of recent artwork by current and emeritus faculty members in the CWU Department of Art.
LOCATION:CWU Sarah Spurgeon Gallery\, Randall Hall on Dean Nicholson Blvd.
UID:e.40.9206
SEQUENCE:3
DTSTAMP:20260420T143537Z
URL:http://business.kittitascountychamber.com/events/details/opening-reception-faculty-exhibition-02-13-2013-9206
END:VEVENT

END:VCALENDAR
