BEGIN:VCALENDAR
VERSION:2.0
PRODID:-//ChamberMaster//Event Calendar 2.0//EN
METHOD:PUBLISH
X-PUBLISHED-TTL:P3D
REFRESH-INTERVAL:P3D
CALSCALE:GREGORIAN
BEGIN:VEVENT
DTSTART:20130111T000000Z
DTEND:20130111T020000Z
X-MICROSOFT-CDO-ALLDAYEVENT:FALSE
SUMMARY:Opening Reception for Yakima River Diaries
DESCRIPTION:A group exhibition that focuses on the Yakima River's rich cultural and natural history and the quality of life (based on the waterways and a sense of place) within the Yakima River watershed. The artworks represent visual narratives\, diary entries that reflect water stories\, experiences\, observations and/or events as they relate to the Yakima River and its tributaries.
X-ALT-DESC;FMTTYPE=text/html:A group exhibition that focuses on the Yakima River&#39\;s rich cultural and natural history and the quality of life (based on the waterways and a sense of place) within the Yakima River watershed. The artworks represent visual narratives\, diary entries that reflect water stories\, experiences\, observations and/or events as they relate to the Yakima River and its tributaries.
LOCATION:CWU Sarah Spurgeon Gallery\, Randall Hall on Dean Nicholson Blvd.
UID:e.40.9204
SEQUENCE:3
DTSTAMP:20260420T163930Z
URL:http://business.kittitascountychamber.com/events/details/opening-reception-for-yakima-river-diaries-01-10-2013-9204
END:VEVENT

END:VCALENDAR
